BEGIN:VCALENDAR
VERSION:2.0
PRODID:-//Plone.org//NONSGML plone.app.event//EN
X-WR-TIMEZONE:Europe/Madrid
BEGIN:VEVENT
SUMMARY:Congreso Nacional en Ingeniería Biomédica
DTSTART;VALUE=DATE:20160706
DTEND;VALUE=DATE:20160709
DTSTAMP:20260421T005516Z
UID:ba54f574549a4ae1aa4057a80df4416e@grins.upc.edu
CONTACT:IEEE-EMBS Students Club\, https://ieeebcnclubconfembs.wordpress.co
 m
CREATED:20160425T090720Z
LAST-MODIFIED:20160425T091417Z
URL:https://grins.upc.edu/en/events/prova
END:VEVENT
END:VCALENDAR
